BEGIN:VCALENDAR
VERSION:2.0
PRODID:spatie/icalendar-generator
DESCRIPTION:Veranstaltungen von Grundschulverbund Espelkamp-Süd
X-WR-CALDESC:Veranstaltungen von Grundschulverbund Espelkamp-Süd
REFRESH-INTERVAL;VALUE=DURATION:PT1440M
X-PUBLISHED-TTL:PT1440M
BEGIN:VTIMEZONE
TZID:Etc/GMT+0
BEGIN:STANDARD
DTSTART:20211114T000000Z
TZOFFSETFROM:+0000
TZOFFSETTO:+0000
END:STANDARD
END:VTIMEZONE
BEGIN:VTIMEZONE
TZID:UTC
BEGIN:STANDARD
DTSTART:20250724T123121Z
TZOFFSETFROM:+0000
TZOFFSETTO:+0000
END:STANDARD
END:VTIMEZONE
BEGIN:VEVENT
UID:63-60
DTSTAMP:20260420T123121Z
SUMMARY:Einschulungstag des Jahrgangs 2022 / 2023
LOCATION:
ORGANIZER;CN=GSV Espelkamp-Süd:MAILTO:prmamstr@gmail.com
DTSTART;TZID=Etc/GMT+0:20220811T000000
DTEND;TZID=Etc/GMT+0:20220811T010000
X-ALT-DESC;FMTTYPE=TEXT/HTML:9 Uhr Kirche (freiwillig) 10 Uhr - 11.25 Uhr o
 ffizielle Einschulungsfeier auf den Schulhöfen der Teilstandorte
CATEGORIES:Veranstaltung
URL;VALUE=URI:https://www.gsv-espelkamp-sued.de/mc-events/einschulungstag-d
 es-jahrgangs-2022-2023/
METHOD:PUBLISH
END:VEVENT
END:VCALENDAR